BEGIN:VCALENDAR
VERSION:2.0
PRODID:-//207.180.228.168//NONSGML kigkonsult.se iCalcreator 2.26.9//
CALSCALE:GREGORIAN
METHOD:PUBLISH
X-WR-CALNAME:FIDE Arbiters&#039\; Commission
X-WR-CALDESC:
X-FROM-URL:https://arbiters.fide.com
X-WR-TIMEZONE:Europe/Paris
BEGIN:VTIMEZONE
TZID:Europe/Paris
X-LIC-LOCATION:Europe/Paris
BEGIN:STANDARD
DTSTART:20251026T030000
TZOFFSETFROM:+0200
TZOFFSETTO:+0100
RDATE:20261025T030000
TZNAME:CET
END:STANDARD
BEGIN:DAYLIGHT
DTSTART:20260329T020000
TZOFFSETFROM:+0100
TZOFFSETTO:+0200
RDATE:20270328T020000
TZNAME:CEST
END:DAYLIGHT
END:VTIMEZONE
BEGIN:VEVENT
UID:ai1ec-10004@arbiters.fide.com
DTSTAMP:20260425T193533Z
CATEGORIES;LANGUAGE=en-US:FA Seminar\,FA Seminar ENG\,Training
CONTACT:IA Abundo Casto\; WhatsApp +971 55 5154554\; Casto.abundo@gmail.com
DESCRIPTION:The 188th Internet-based FIDE Arbiters’ Seminar is going to be 
 organized from 23/05/2025 to 27/05/2025 by the National Chess Federation o
 f the Philippines (NCFP)\, and Asian Chess Federation\, under the auspices
  of FIDE. \nThe Lecturer will be IA/IO Abundo\, Casto (PHI)\, FIDE Lecture
 r\, and the Assistant Lecturer will be IA/IO Pahlevanzadeh\, Mehrdad (IRI)
 \, FIDE Lecturer.\nThe language of the Seminar will be English.\nThe Semin
 ar will give norms and titles of FIDE Arbiter\, according to the Regulatio
 ns for the titles of Arbiters.\nSchedule:\n(Manila time)\n13:00-19:00 Frid
 ay\, 23 May 2025\nIntroduction\nFIDE Structure\nGuidelines for Organizers
 \n14:00 Laws of Chess\, Rapid and Blitz (p. 5)\n13:00-19:00 Saturday\, 24 
 May 2025\n13:00 Types of Tournaments (Chapter 4: p. 105)\nAccelerated Syst
 em (p. 146)\n14:00 General Regulations for Competitions (p 189)\nBerger an
 d Varma table (p. 198)\nTie Break Systems (p. 202)\n15:00 Swiss system and
  pairing rules. (Chapter 5\, p. 112)\n13:00-19:00 Sunday\, 25 May 2025\n13
 :00 International Title Regulations (Chapter 7\, p. 159)\n14:00 FIDE Ratin
 g Regulations (Chapter 6\, p. 148)\nRapid and Blitz Rating\n16:00 Regulati
 ons for the Titles of Arbiters (Chapter 10\, p. 217)\nClassification of Ar
 biters (p. 235)\n18:00 Fair Play Guidelines for Arbiters (Anti Cheating) C
 hapter 3\, p. 59)\n19:00-23:00 Tuesday\, 27 May 2025\nExam (sample questio
 ns p 283)
DTSTART;VALUE=DATE:20250523
DTEND;VALUE=DATE:20250528
LOCATION:online
SEQUENCE:0
SUMMARY:188th Internet Based FIDE Arbiters’ Seminar (PHI)
URL:https://arbiters.fide.com/news/event/188th-internet-based-fide-arbiters
 -seminar-phi
X-COST-TYPE:free
X-ALT-DESC;FMTTYPE=text/html:<!DOCTYPE HTML PUBLIC '-//W3C//DTD HTML 3.2//E
 N'>\\n<HTML>\\n<HEAD>\\n<TITLE></TITLE>\\n</HEAD>\\n<BODY><p>The 188th Int
 ernet-based FIDE Arbiters’ Seminar is going to be organized from 23/05/202
 5 to 27/05/2025 by the National Chess Federation of the Philippines (NCFP)
 \, and Asian Chess Federation\,<span class='fontstyle0'> under the auspice
 s of FIDE. </span></p>\n<p>The Lecturer will be IA/IO Abundo\, Casto (PHI)
 \, FIDE Lecturer\, and the Assistant Lecturer will be IA/IO <span data-she
 ets-root='1'>Pahlevanzadeh\, Mehrdad (IRI)\, FIDE Lecturer</span>.</p>\n<p
 >The language of the Seminar will be English.</p>\n<p>The Seminar will giv
 e norms and titles of FIDE Arbiter\, according to the Regulations for the 
 titles of Arbiters.</p>\n<div><strong><strong>Schedule:</strong></strong><
 /div>\n<div>(Manila time)</div>\n<div><strong>13:00-19:00 Friday\, 23 May 
 2025</strong><br />\nIntroduction<br />\nFIDE Structure<br />\nGuidelines 
 for Organizers</div>\n<div>14:00 Laws of Chess\, Rapid and Blitz (p. 5)</d
 iv>\n<div><strong>13:00-19:00 Saturday\, 24 May 2025</strong></div>\n<div>
 13:00 Types of Tournaments (Chapter 4: p. 105)<br />\nAccelerated System (
 p. 146)</div>\n<div>14:00 General Regulations for Competitions (p 189)<br 
 />\nBerger and Varma table (p. 198)<br />\nTie Break Systems (p. 202)</div
 >\n<div>15:00 Swiss system and pairing rules. (Chapter 5\, p. 112)</div>\n
 <div><strong>13:00-19:00 Sunday\, 25 May 2025</strong></div>\n<div>13:00 I
 nternational Title Regulations (Chapter 7\, p. 159)</div>\n<div>14:00 FIDE
  Rating Regulations (Chapter 6\, p. 148)<br />\nRapid and Blitz Rating</di
 v>\n<div>16:00 Regulations for the Titles of Arbiters (Chapter 10\, p. 217
 )<br />\nClassification of Arbiters (p. 235)</div>\n<div>18:00 Fair Play G
 uidelines for Arbiters (Anti Cheating) Chapter 3\, p. 59)</div>\n<div><str
 ong>19:00-23:00 Tuesday\, 27 May 2025</strong><br />\nExam (sample questio
 ns p 283)</div>\n<div>\n<div></div>\n</div>\n<div></div>\n<div></div>\n</B
 ODY></HTML>
X-TAGS;LANGUAGE=en-US:English
X-COST:120 EUR
END:VEVENT
END:VCALENDAR
